BEGIN:VCALENDAR
VERSION:2.0
PRODID:-//Les enfants de bohème - ECPv6.13.0//NONSGML v1.0//EN
CALSCALE:GREGORIAN
METHOD:PUBLISH
X-WR-CALNAME:Les enfants de bohème
X-ORIGINAL-URL:https://lesenfantsdeboheme.org
X-WR-CALDESC:Évènements pour Les enfants de bohème
REFRESH-INTERVAL;VALUE=DURATION:PT1H
X-Robots-Tag:noindex
X-PUBLISHED-TTL:PT1H
BEGIN:VTIMEZONE
TZID:Europe/Paris
BEGIN:DAYLIGHT
TZOFFSETFROM:+0100
TZOFFSETTO:+0200
TZNAME:CEST
DTSTART:20260329T010000
END:DAYLIGHT
BEGIN:STANDARD
TZOFFSETFROM:+0200
TZOFFSETTO:+0100
TZNAME:CET
DTSTART:20261025T010000
END:STANDARD
END:VTIMEZONE
BEGIN:VEVENT
DTSTART;TZID=Europe/Paris:20260423T183000
DTEND;TZID=Europe/Paris:20260423T193000
DTSTAMP:20260423T145838
CREATED:20260226T125902Z
LAST-MODIFIED:20260226T130007Z
UID:216344-1776969000-1776972600@lesenfantsdeboheme.org
SUMMARY:Réunion Information collective - Parrainage de proximité Lyon 7
DESCRIPTION:
URL:https://lesenfantsdeboheme.org/event/reunion-information-collective-parrainage-de-proximite-visio/
LOCATION:lyon\, 38 route de vienne\, LYON\, 69007\, France
END:VEVENT
BEGIN:VEVENT
DTSTART;TZID=Europe/Paris:20260428T123000
DTEND;TZID=Europe/Paris:20260428T133000
DTSTAMP:20260423T145838
CREATED:20260226T130502Z
LAST-MODIFIED:20260226T130502Z
UID:216351-1777379400-1777383000@lesenfantsdeboheme.org
SUMMARY:Réunion Information collective - Parrainage de proximité visio
DESCRIPTION:
URL:https://lesenfantsdeboheme.org/event/reunion-information-collective-parrainage-de-proximite-visio-7/
END:VEVENT
END:VCALENDAR